BEGIN:VCALENDAR
VERSION:2.0
PRODID:icalendar-ruby
CALSCALE:GREGORIAN
METHOD:PUBLISH
BEGIN:VEVENT
DTSTAMP:20260424T231216Z
UID:10-415066@mysp.church
DTSTART:20260802T160000Z
DTEND:20260802T171500Z
CLASS:PUBLIC
CREATED:20260424T133316
DESCRIPTION:Come worship with us!
LAST-MODIFIED:20260424T133316
LOCATION:Starting Point Church
SUMMARY:Sunday Services
URL;VALUE=URI:https://www.mysp.church/events/sunday-services/2026-08-02
END:VEVENT
END:VCALENDAR
