BEGIN:VCALENDAR
VERSION:2.0
PRODID:icalendar-ruby
CALSCALE:GREGORIAN
METHOD:PUBLISH
BEGIN:VEVENT
DTSTAMP:20260425T020408Z
UID:10-415355@mysp.church
DTSTART:20260816T160000Z
DTEND:20260816T171500Z
CLASS:PUBLIC
CREATED:20260424T162104
DESCRIPTION:Come worship with us!
LAST-MODIFIED:20260424T162104
LOCATION:Starting Point Church
SUMMARY:Sunday Services
URL;VALUE=URI:https://www.mysp.church/events/sunday-services/2026-08-16
END:VEVENT
END:VCALENDAR
