BEGIN:VCALENDAR
VERSION:2.0
PRODID:icalendar-ruby
CALSCALE:GREGORIAN
METHOD:PUBLISH
BEGIN:VEVENT
DTSTAMP:20260425T153414Z
UID:10-416225@mysp.church
DTSTART:20261018T160000Z
DTEND:20261018T171500Z
CLASS:PUBLIC
CREATED:20260425T073641
DESCRIPTION:Come worship with us!
LAST-MODIFIED:20260425T073641
LOCATION:Starting Point Church
SUMMARY:Sunday Services
URL;VALUE=URI:https://www.mysp.church/events/sunday-services/2026-10-18
END:VEVENT
END:VCALENDAR
